BEGIN:VCALENDAR
VERSION:2.0
PRODID:-//pretix//pretix.eu//
BEGIN:VTIMEZONE
TZID:Europe/Berlin
BEGIN:STANDARD
DTSTART:20001029T040000
RRULE:FREQ=YEARLY;BYDAY=-1SU;BYMONTH=10
TZNAME:CET
TZOFFSETFROM:+0200
TZOFFSETTO:+0100
END:STANDARD
BEGIN:DAYLIGHT
DTSTART:20000326T030000
RRULE:FREQ=YEARLY;BYDAY=-1SU;BYMONTH=3
TZNAME:CEST
TZOFFSETFROM:+0100
TZOFFSETTO:+0200
END:DAYLIGHT
END:VTIMEZONE
BEGIN:VEVENT
UID:pretix-tvcannstatt-feriensportwochen-aktionen-4889078@tvcannstatt.verei
 nsticket.de
DTSTART;TZID=Europe/Berlin:20260831T093000
DTEND;TZID=Europe/Berlin:20260831T103000
DESCRIPTION:Tickets: https://tvcannstatt.vereinsticket.de/feriensportwochen
 -aktionen/4889078/\nEinlass: 31.08.2026 09:30\nVeranstalter: Turnverein Ca
 nnstatt 1846 e.V.
DTSTAMP:20260421T134019Z
LOCATION:TVC Sporthalle\, Am Schnarrenberg 10\, 70376 Stuttgart
SUMMARY:Feriensportwoche 2 - move (KW 36 - 31.08.-04.09.2026)
END:VEVENT
END:VCALENDAR
